BEGIN:VCALENDAR
VERSION:2.0
PRODID:-//Casa de la Pax Cultura - Todos por la paz - ECPv5.14.1//NONSGML v1.0//EN
CALSCALE:GREGORIAN
METHOD:PUBLISH
X-WR-CALNAME:Casa de la Pax Cultura - Todos por la paz
X-ORIGINAL-URL:https://casadelapaxcultura.com.ar
X-WR-CALDESC:Eventos para Casa de la Pax Cultura - Todos por la paz
BEGIN:VTIMEZONE
TZID:America/Sao_Paulo
BEGIN:STANDARD
TZOFFSETFROM:-0300
TZOFFSETTO:-0300
TZNAME:-03
DTSTART:20200101T000000
END:STANDARD
END:VTIMEZONE
BEGIN:VEVENT
DTSTART;VALUE=DATE:20201207
DTEND;VALUE=DATE:20201208
DTSTAMP:20260421T081939
CREATED:20201109T170554Z
LAST-MODIFIED:20201109T170554Z
UID:7343-1607299200-1607385599@casadelapaxcultura.com.ar
SUMMARY:Día de la Aviación Civil Internacional
DESCRIPTION:Día de la Aviación Civil Internacional [A/RES/51/33]
URL:https://casadelapaxcultura.com.ar/evento/dia-de-la-aviacion-civil-internacional-2/
ATTACH;FMTTYPE=image/jpeg:https://casadelapaxcultura.com.ar/wp-content/uploads/2020/11/kristopher-allison-KU4zYj4u0mo-unsplash.jpg
END:VEVENT
END:VCALENDAR