BEGIN:VCALENDAR
VERSION:2.0
PRODID:-//Casa de la Pax Cultura - Todos por la paz - ECPv5.14.1//NONSGML v1.0//EN
CALSCALE:GREGORIAN
METHOD:PUBLISH
X-WR-CALNAME:Casa de la Pax Cultura - Todos por la paz
X-ORIGINAL-URL:https://casadelapaxcultura.com.ar
X-WR-CALDESC:Eventos para Casa de la Pax Cultura - Todos por la paz
BEGIN:VTIMEZONE
TZID:America/Sao_Paulo
BEGIN:STANDARD
TZOFFSETFROM:-0300
TZOFFSETTO:-0300
TZNAME:-03
DTSTART:20200101T000000
END:STANDARD
END:VTIMEZONE
BEGIN:VEVENT
DTSTART;VALUE=DATE:20201120
DTEND;VALUE=DATE:20201121
DTSTAMP:20260421T064035
CREATED:20201109T151429Z
LAST-MODIFIED:20201109T151429Z
UID:7305-1605830400-1605916799@casadelapaxcultura.com.ar
SUMMARY:Día de la Industrialización de África
DESCRIPTION:Día de la Industrialización de África [A/RES/44/237]
URL:https://casadelapaxcultura.com.ar/evento/dia-de-la-industrializacion-de-africa/
ATTACH;FMTTYPE=image/jpeg:https://casadelapaxcultura.com.ar/wp-content/uploads/2020/11/leo-moko-NId6YALpr3w-unsplash.jpg
END:VEVENT
END:VCALENDAR