BEGIN:VCALENDAR
VERSION:2.0
PRODID:-//Casa de la Pax Cultura - Todos por la paz - ECPv5.14.1//NONSGML v1.0//EN
CALSCALE:GREGORIAN
METHOD:PUBLISH
X-WR-CALNAME:Casa de la Pax Cultura - Todos por la paz
X-ORIGINAL-URL:https://casadelapaxcultura.com.ar
X-WR-CALDESC:Eventos para Casa de la Pax Cultura - Todos por la paz
BEGIN:VTIMEZONE
TZID:America/Sao_Paulo
BEGIN:STANDARD
TZOFFSETFROM:-0300
TZOFFSETTO:-0300
TZNAME:-03
DTSTART:20200101T000000
END:STANDARD
END:VTIMEZONE
BEGIN:VEVENT
DTSTART;VALUE=DATE:20201210
DTEND;VALUE=DATE:20201211
DTSTAMP:20260421T123851
CREATED:20201109T172604Z
LAST-MODIFIED:20201109T172604Z
UID:7353-1607558400-1607644799@casadelapaxcultura.com.ar
SUMMARY:Día de los Derechos Humanos
DESCRIPTION:Día de los Derechos Humanos [A/RES/423 (V)]
URL:https://casadelapaxcultura.com.ar/evento/dia-de-los-derechos-humanos-2/
ATTACH;FMTTYPE=image/jpeg:https://casadelapaxcultura.com.ar/wp-content/uploads/2020/11/tim-marshall-cAtzHUz7Z8g-unsplash.jpg
END:VEVENT
END:VCALENDAR