BEGIN:VCALENDAR
VERSION:2.0
PRODID:-//Casa de la Pax Cultura - Todos por la paz - ECPv5.14.1//NONSGML v1.0//EN
CALSCALE:GREGORIAN
METHOD:PUBLISH
X-WR-CALNAME:Casa de la Pax Cultura - Todos por la paz
X-ORIGINAL-URL:https://casadelapaxcultura.com.ar
X-WR-CALDESC:Eventos para Casa de la Pax Cultura - Todos por la paz
BEGIN:VTIMEZONE
TZID:America/Sao_Paulo
BEGIN:STANDARD
TZOFFSETFROM:-0200
TZOFFSETTO:-0300
TZNAME:-03
DTSTART:20190217T020000
END:STANDARD
END:VTIMEZONE
BEGIN:VEVENT
DTSTART;VALUE=DATE:20191210
DTEND;VALUE=DATE:20191211
DTSTAMP:20260424T064850
CREATED:20191205T131908Z
LAST-MODIFIED:20191205T132019Z
UID:7201-1575936000-1576022399@casadelapaxcultura.com.ar
SUMMARY:Día de los Derechos Humanos
DESCRIPTION:La Declaración Universal de los Derechos Humanos cumple 70 años\nDefendamos la equidad\, la justicia y la dignidad humana\nEl Día de los Derechos Humanos se celebra cada 10 de diciembre\, coincidiendo con la fecha en que la Asamblea General adoptó la Declaración Universal de Derechos Humanos\, en 1948. Este año celebramos el 70º aniversario  de la Declaración. Por eso\, hemos lanzado una campaña con la que queremos destacar la trascendencia de este documento histórico\, que proclamó los derechos inalienables inherentes a todos los seres humanos\, sin importar su raza\, color\, religión\, sexo\, idioma\, opiniones políticas o de otra índole\, origen nacional o social\, propiedades\, lugar de nacimiento\, ni ninguna otra condición. Es el documento más traducido del mundo y está disponible en más de 500 idiomas. \nLa Declaración\, cuyo borrador redactaron representantes de distintos contextos jurídicos y culturales de todo el mundo\, expone valores universales y un ideal común para todos los pueblos y naciones. Además\, establece que todas las personas tienen la misma dignidad y el mismo valor. \nGracias a este documento y el compromiso de los Estados con sus principios\, la dignidad de millones de personas ha mejorado\, y se han sentado las bases de un mundo más justo. Aunque aún quede camino por recorrer para que las promesas que recoge se cumplan plenamente\, el hecho de que haya perdurado en el tiempo es una prueba inequívoca de la universalidad imperecedera de sus valores eternos sobre la equidad\, la justicia y la dignidad humana. \nLa Declaración nos hace más fuertes a todos y los principios que recoge son tan relevantes en la actualidad como lo fueron en 1948. Debemos luchar por nuestros propios derechos y por los del prójimo. En nuestra vida cotidiana\, podemos tomar medidas y participar para defender aquellos derechos que nos protegen a todos y así fomentar la unión de todos los seres humanos. \n#LuchaPorLosDDHH \n\nLa Declaración Universal de los Derechos Humanos nos fortalece a todos.\nLos derechos humanos nos conciernen a todos\, cada día.\nLa condición humana se fundamenta en estos valores universales.\nLa equidad\, la justicia y la libertad evitan la violencia y velan por la paz.\nCada vez que se olvidan o se dejan de lado los valores humanos\, todos corremos un gran riesgo.\nDebemos luchar por nuestros derechos y por los del prójimo.
URL:https://casadelapaxcultura.com.ar/evento/dia-de-los-derechos-humanos/
ATTACH;FMTTYPE=image/jpeg:https://casadelapaxcultura.com.ar/wp-content/uploads/2019/12/featured-image-index-2.jpg
END:VEVENT
END:VCALENDAR