BEGIN:VCALENDAR
VERSION:2.0
PRODID:-//Casa de la Pax Cultura - Todos por la paz - ECPv5.14.1//NONSGML v1.0//EN
CALSCALE:GREGORIAN
METHOD:PUBLISH
X-WR-CALNAME:Casa de la Pax Cultura - Todos por la paz
X-ORIGINAL-URL:https://casadelapaxcultura.com.ar
X-WR-CALDESC:Eventos para Casa de la Pax Cultura - Todos por la paz
BEGIN:VTIMEZONE
TZID:America/Sao_Paulo
BEGIN:STANDARD
TZOFFSETFROM:-0200
TZOFFSETTO:-0300
TZNAME:-03
DTSTART:20190217T020000
END:STANDARD
END:VTIMEZONE
BEGIN:VEVENT
DTSTART;VALUE=DATE:20191212
DTEND;VALUE=DATE:20191213
DTSTAMP:20260422T054928
CREATED:20191205T132404Z
LAST-MODIFIED:20191205T132404Z
UID:7213-1576108800-1576195199@casadelapaxcultura.com.ar
SUMMARY:Día Internacional de la Cobertura Sanitaria Universal
DESCRIPTION:Cobertura Sanitaria Universal\nEl 12 de diciembre de 2012\, la Asamblea General de las Naciones Unidas aprobó una resolución en la instaba a los países a acelerar el avance hacia la cobertura sanitaria universal (CSU) —la idea de que todas las personas\, en cualquier lugar debería tener acceso a una atención sanitaria de calidad y asequible— como prioridad esencial para el desarrollo internacional. El 12 de diciembre de 2017\, en la resolución 72/138 \, la Asamblea General decidió proclamar el 12 de diciembre Día Internacional de la Cobertura Sanitaria Universal (Día CSU). \nEl Día Internacional de la Cobertura Sanitaria Universal (CSU) tiene por objetivo crear conciencia sobre la necesidad de contar con una cobertura sanitaria universal y sistemas de salud sólidos y resilientes\, contando para ello con la colaboración de múltiples asociados. El 12 de diciembre de cada año\, los defensores de la CSU hablan de las historias de los millones de personas que siguen sin tener atención sanitaria y de los logros alcanzados\, piden a los dirigentes que hagan mayores y mejores inversiones en el ámbito de la salud y alientan a diversos grupos a que se comprometan a ayudar a que el mundo se acerque más a la CSU de aquí a 2030. \nEl lema del Día CSU 2018 es “Unidos por la Cobertura Sanitaria Universal: es hora de emprender acciones colectivas”.
URL:https://casadelapaxcultura.com.ar/evento/dia-internacional-de-la-cobertura-sanitaria-universal/
ATTACH;FMTTYPE=image/jpeg:https://casadelapaxcultura.com.ar/wp-content/uploads/2019/12/featured-image-index-5.jpg
END:VEVENT
END:VCALENDAR