BEGIN:VCALENDAR
VERSION:2.0
PRODID:-//Casa de la Pax Cultura - Todos por la paz - ECPv5.14.1//NONSGML v1.0//EN
CALSCALE:GREGORIAN
METHOD:PUBLISH
X-WR-CALNAME:Casa de la Pax Cultura - Todos por la paz
X-ORIGINAL-URL:https://casadelapaxcultura.com.ar
X-WR-CALDESC:Eventos para Casa de la Pax Cultura - Todos por la paz
BEGIN:VTIMEZONE
TZID:America/Sao_Paulo
BEGIN:STANDARD
TZOFFSETFROM:-0300
TZOFFSETTO:-0300
TZNAME:-03
DTSTART:20210101T000000
END:STANDARD
END:VTIMEZONE
BEGIN:VEVENT
DTSTART;VALUE=DATE:20210211
DTEND;VALUE=DATE:20210212
DTSTAMP:20260419T152013
CREATED:20210203T162214Z
LAST-MODIFIED:20210203T162214Z
UID:7415-1613001600-1613087999@casadelapaxcultura.com.ar
SUMMARY:Día Internacional de la Mujer y la Niña en la Ciencia
DESCRIPTION:Más diversidad\, mejor ciencia\nLa ciencia y la igualdad de género son vitales para alcanzar los Objetivos de Desarrollo Sostenible (ODS). En los últimos 15 años\, la comunidad internacional ha hecho un gran esfuerzo para inspirar y promover la participación de las mujeres y las niñas en la ciencia. Sin embargo\, las mujeres siguen encontrando obstáculos para desenvolverse en el campo de la ciencia. \nLa brecha de género en los sectores de la ciencia\, la tecnología\, la ingeniería y las matemáticas (STEM) persiste desde hace años en todo el mundo. A pesar de que la participación de las mujeres en las carreras de grado superior ha aumentado enormemente\, estas todavía se encuentran insuficientemente representadas en estos campos. \nEn la actualidad\, menos del 30 por ciento de los investigadores en todo el mundo son mujeres. Según datos de la UNESCO (entre 2014 y 2016)\, solo alrededor del 30 por ciento de todas las estudiantes escogen estudios superiores dentro del campo de las ciencias\, la tecnología\, la ingeniería y matemáticas (STEM). En el todo el mundo\, la matrícula de estudiantes femeninas es particularmente baja en el campo de la tecnología de la información y las comunicaciones (TIC)\, con un tres por ciento; ciencias naturales\, matemáticas y estadísticas\, con un cinco por ciento\, y en ingeniería\, manufactura y construcción\, con un ocho por ciento. \nLos prejuicios y los estereotipos de género que se arrastran desde hace mucho tiempo continúan manteniendo a las niñas y mujeres alejadas de los sectores relacionados con la ciencia. El mundo dibujado en la pantalla no dista mucho del mundo real. Un estudio realizado en 2015 por el Instituto Geena Davis titulado “Gender Bias Without Borders” (Prejuicios de género sin fronteras) muestra que la representación en las grandes pantallas de mujeres que trabajan en el campo de las ciencias se limita solo a un doce por ciento. \nCon el fin de lograr el acceso y la participación plena y equitativa en la ciencia para las mujeres y las niñas\, y además para lograr la igualdad de género y el empoderamiento de las mujeres y las niñas\, la Asamblea General de las Naciones Unidas decidió proclamar en 2016 (resolución A/RES/70/212 ) el 11 de febrero como el Día Internacional de la Mujer y la Niña en la Ciencia. \n  \n\nDía Internacional de la Mujer y la Niña en la Ciencia [A/RES/70/212]
URL:https://casadelapaxcultura.com.ar/evento/dia-internacional-de-la-mujer-y-la-nina-en-la-ciencia/
ATTACH;FMTTYPE=image/jpeg:https://casadelapaxcultura.com.ar/wp-content/uploads/2021/02/women_and_girls_home.jpg
END:VEVENT
END:VCALENDAR