BEGIN:VCALENDAR
VERSION:2.0
PRODID:-//Casa de la Pax Cultura - Todos por la paz - ECPv5.14.1//NONSGML v1.0//EN
CALSCALE:GREGORIAN
METHOD:PUBLISH
X-WR-CALNAME:Casa de la Pax Cultura - Todos por la paz
X-ORIGINAL-URL:https://casadelapaxcultura.com.ar
X-WR-CALDESC:Eventos para Casa de la Pax Cultura - Todos por la paz
BEGIN:VTIMEZONE
TZID:America/Sao_Paulo
BEGIN:STANDARD
TZOFFSETFROM:-0200
TZOFFSETTO:-0300
TZNAME:-03
DTSTART:20190217T020000
END:STANDARD
END:VTIMEZONE
BEGIN:VEVENT
DTSTART;VALUE=DATE:20191212
DTEND;VALUE=DATE:20191213
DTSTAMP:20260422T070249
CREATED:20191205T132251Z
LAST-MODIFIED:20191205T132251Z
UID:7210-1576108800-1576195199@casadelapaxcultura.com.ar
SUMMARY:Día Internacional de la Neutralidad
DESCRIPTION:En pro de la paz\, la seguridad y el desarrollo\nFrente a la tensión política y a la escalada de las crisis\, es de gran importancia que se respeten los principios de soberanía y e igualdad soberana de los Estados. También los de integridad territorial\, libre determinación y no intervención en los asuntos internos de cualquier Estado. Además\, es necesario promover y alentar la solución de los conflictos internacionales por medios pacíficos de tal manera que no se pongan en peligro la paz y la seguridad internacionales. \nDe esta forma\, la política de neutralidad contribuye a fortalecer la paz y la seguridad tanto en las regiones pertinentes como a nivel mundial y desempeña un papel importante para forjar relaciones pacíficas\, amistosas y mutuamente beneficiosas entre los países del mundo. \nAdemás\, de ser un factor clave para crear las condiciones para unas negociaciones pacíficas\, la política de neutralidad permanente está relacionada estrechamente con instrumentos de la diplomacia preventiva y la mediación\, los buenos oficios\, las misiones de constatación de los hechos\, la negociación\, el uso de enviados especiales\, las consultas oficiosas\, la consolidación de la paz y las actividades específicas de desarrollo. \nLa neutralidad juega asimismo un papel clave en el fortalecimiento de la coordinación de la asistencia humanitaria en situaciones de emergencia y los países declarados neutrales desempeñan un papel importante en la provisión y entrega de ayuda humanitaria en situaciones de conflicto y desastres naturales. \nPor todo ello\, la diplomacia preventiva es una función básica de las Naciones Unidas y ocupa un lugar destacado entre las funciones Secretario General. \nPrimera celebración del Día de la Neutralidad\nEn febrero de 2017\, la Asamblea General de las Naciones Unidas decidió establecer el Día Internacional de la Neutralidad a propuesta de Turkmenistán\, reconocido por las Naciones Unidas como un Estado permanentemente neutral desde diciembre de 1995.
URL:https://casadelapaxcultura.com.ar/evento/dia-internacional-de-la-neutralidad/
ATTACH;FMTTYPE=image/jpeg:https://casadelapaxcultura.com.ar/wp-content/uploads/2019/12/featured-image-index-3.jpg
END:VEVENT
END:VCALENDAR