BEGIN:VCALENDAR
VERSION:2.0
PRODID:-//Casa de la Pax Cultura - Todos por la paz - ECPv5.14.1//NONSGML v1.0//EN
CALSCALE:GREGORIAN
METHOD:PUBLISH
X-WR-CALNAME:Casa de la Pax Cultura - Todos por la paz
X-ORIGINAL-URL:https://casadelapaxcultura.com.ar
X-WR-CALDESC:Eventos para Casa de la Pax Cultura - Todos por la paz
BEGIN:VTIMEZONE
TZID:America/Sao_Paulo
BEGIN:STANDARD
TZOFFSETFROM:-0200
TZOFFSETTO:-0300
TZNAME:-03
DTSTART:20190217T020000
END:STANDARD
END:VTIMEZONE
BEGIN:VEVENT
DTSTART;VALUE=DATE:20191220
DTEND;VALUE=DATE:20191221
DTSTAMP:20260422T013229
CREATED:20191205T132754Z
LAST-MODIFIED:20191205T132754Z
UID:7222-1576800000-1576886399@casadelapaxcultura.com.ar
SUMMARY:Día Internacional de la Solidaridad
DESCRIPTION:El Día Internacional de la Solidaridad Humana es\n\nUn día para celebrar nuestra unidad en la diversidad.\nUn día para recordar a los gobiernos que deben respetar sus compromisos con los acuerdos internacionales.\nUn día para sensibilizar al público sobre la importancia de la solidaridad.\nUn día para fomentar el debate sobre las maneras de promover la solidaridad para el logro de los Objetivos de Desarrollo Sostenible\, entre otros\, el objetivo de poner fin a la pobreza.\nUn día para actuar y buscar nuevas iniciativas para la erradicación de la pobreza.\n\nLa celebración de este día llegó después de que los líderes mundiales adoptasen los Objetivos de Desarrollo Sostenible (ODS)\, que constituyen un programa nuevo e inclusivo —después de los Objetivos de Desarrollo del Milenio (ODM)— para erradicar la pobreza\, proteger el planeta y garantizar la dignidad para todos. \nEl nuevo programa de los Objetivos de Desarrollo Sostenible pone en el centro a la persona y al planeta\, se apoya en los derechos humanos y está respaldado por una alianza mundial decidida a ayudar a la gente a superar la pobreza\, el hambre y las enfermedades. Se forjará por tanto sobre la base de una cooperación y solidaridad mundiales.
URL:https://casadelapaxcultura.com.ar/evento/dia-internacional-de-la-solidaridad/
ATTACH;FMTTYPE=image/jpeg:https://casadelapaxcultura.com.ar/wp-content/uploads/2019/12/featured-image-index-8.jpg
END:VEVENT
END:VCALENDAR