BEGIN:VCALENDAR
VERSION:2.0
PRODID:-//Casa de la Pax Cultura - Todos por la paz - ECPv5.14.1//NONSGML v1.0//EN
CALSCALE:GREGORIAN
METHOD:PUBLISH
X-WR-CALNAME:Casa de la Pax Cultura - Todos por la paz
X-ORIGINAL-URL:https://casadelapaxcultura.com.ar
X-WR-CALDESC:Eventos para Casa de la Pax Cultura - Todos por la paz
BEGIN:VTIMEZONE
TZID:America/Sao_Paulo
BEGIN:STANDARD
TZOFFSETFROM:-0200
TZOFFSETTO:-0300
TZNAME:-03
DTSTART:20190217T020000
END:STANDARD
END:VTIMEZONE
BEGIN:VEVENT
DTSTART;VALUE=DATE:20190706
DTEND;VALUE=DATE:20190707
DTSTAMP:20260419T205222
CREATED:20190710T163256Z
LAST-MODIFIED:20190711T040631Z
UID:6962-1562371200-1562457599@casadelapaxcultura.com.ar
SUMMARY:Día Internacional de las Cooperativas
DESCRIPTION:El movimiento cooperativo que abarca organizaciones financieras\, agricultores\, productores y consumidores está desempeñando un papel increíble en la creación de nuevos valores y ética en los negocios y la economía. Este Día\, que se observa el primer sábado de julio\, marca la formación en 1895 de la Alianza Cooperativa Internacional. Hoy en día\, la Alianza incluye 292 organizaciones miembros (muchas de las cuales incluyen miles de cooperativas) de 95 países\, que representan a mil millones de personas en todo el mundo. ¡Una de cada seis personas en el planeta es parte de cualquiera de las 3 millones de cooperativas en el mundo! Son fuertes y saludables: las 300 cooperativas y mutuales más importantes reportan una facturación total de 2\,1 billones de dólares\, según el Monitor Cooperativo Mundial (2017).\nNos olvidamos de lo extendidas que son las empresas cooperativas: las cooperativas emplean a más de 250 millones de personas en todo el mundo (casi el 12% de la población ocupada en los países del G20); en Kenia\, el 63% de la población obtiene su sustento de las cooperativas; en los Estados Unidos\, 30\,000 cooperativas proveen más de 2 millones de empleos; en 2007\, las cooperativas de consumo en Dinamarca tenían el 36\,4% del mercado minorista de consumo; El 91% de todos los agricultores japoneses son miembros de cooperativas.\nLa base de la cooperación reside principalmente en la responsabilidad mutua. – Agni Yoga\, Corazón\, 559 \nDía Internacional de las Cooperativas [A/RES/49/155]\nica.coop/ \nwww.un.org/development/desa/
URL:https://casadelapaxcultura.com.ar/evento/dia-internacional-de-las-cooperativas/
ATTACH;FMTTYPE=image/jpeg:https://casadelapaxcultura.com.ar/wp-content/uploads/2019/07/cooperativa.jpg
END:VEVENT
END:VCALENDAR