BEGIN:VCALENDAR
VERSION:2.0
PRODID:-//Casa de la Pax Cultura - Todos por la paz - ECPv5.14.1//NONSGML v1.0//EN
CALSCALE:GREGORIAN
METHOD:PUBLISH
X-WR-CALNAME:Casa de la Pax Cultura - Todos por la paz
X-ORIGINAL-URL:https://casadelapaxcultura.com.ar
X-WR-CALDESC:Eventos para Casa de la Pax Cultura - Todos por la paz
BEGIN:VTIMEZONE
TZID:America/Sao_Paulo
BEGIN:STANDARD
TZOFFSETFROM:-0200
TZOFFSETTO:-0300
TZNAME:-03
DTSTART:20190217T020000
END:STANDARD
END:VTIMEZONE
BEGIN:VEVENT
DTSTART;VALUE=DATE:20191211
DTEND;VALUE=DATE:20191212
DTSTAMP:20260424T053533
CREATED:20191205T132142Z
LAST-MODIFIED:20191205T132142Z
UID:7207-1576022400-1576108799@casadelapaxcultura.com.ar
SUMMARY:Día Internacional de las Montañas
DESCRIPTION:Montañas\, esas joyas naturales que debiéramos atesorar\nLas montañas albergan el 15% de la población mundial\, dan cobijo a un cuarto de los animales y plantas terrestres y suministran agua dulce para más de la mitad de la humanidad. Su conservación resulta clave\, tal cual especifica el Objetivo 15 de los ODS. \nSin embargo\, se encuentran fuertemente amenazadas por el cambio climático y la sobreexplotación. A medida que los glaciares de montaña se derriten\, los habitantes de las alturas —entre los más pobres del mundo— afrontan mayores dificultades para sobrevivir a causa de los desastres naturales. \nA todo ello hay que sumar el hecho de que dicho derretimiento a una velocidad sin precedentes amenaza el suministro de agua dulce de millones de personas. \nEste problema es cosa de todos. De ahí que debamos reducir la huella de carbono y cuidar este tesoro natural. \nLas montañas son importantes para los jóvenes\, tema de 2019\nEste día internacional recalcará las dificultades que afrontan los jóvenes que viven en la montaña y su único final posible: la emigración\, la cual acarrea a su vez el abandono de la agricultura\, la degradación del suelo y la pérdida de valores y tradiciones culturales. \nLa educación y la formación\, el acceso a empleo y mejores servicios públicos podrían garantizarles un futuro mejor. \nAsí\, en este 2019\, ellos serán las voces que luchen para hacer que las montañas y sus gentes estén más presentes en agendas sostenibles\, inversiones e investigaciones. \nEl origen\nEl principal hito se remonta a 1992\, cuando el documento “Ordenación de los Sistemas Frágiles: Desarrollo Sostenible de las Zonas de Montaña” (capítulo 13) fue incluido en el Programa 21\, un plan de acción sostenible promovido por Naciones Unidas. \nDicho logro y el creciente interés acerca de la importancia de las montañas llevó a la Asamblea General a declarar 2002 como Año Internacional de las Montañas\, factor que impulsó que\, en 2003\, se celebrase el primer Día Internacional.
URL:https://casadelapaxcultura.com.ar/evento/dia-internacional-de-las-montanas/
ATTACH;FMTTYPE=image/jpeg:https://casadelapaxcultura.com.ar/wp-content/uploads/2019/12/mountain_cover.jpg
END:VEVENT
END:VCALENDAR