BEGIN:VCALENDAR
VERSION:2.0
PRODID:-//Casa de la Pax Cultura - Todos por la paz - ECPv5.14.1//NONSGML v1.0//EN
CALSCALE:GREGORIAN
METHOD:PUBLISH
X-WR-CALNAME:Casa de la Pax Cultura - Todos por la paz
X-ORIGINAL-URL:https://casadelapaxcultura.com.ar
X-WR-CALDESC:Eventos para Casa de la Pax Cultura - Todos por la paz
BEGIN:VTIMEZONE
TZID:America/Sao_Paulo
BEGIN:STANDARD
TZOFFSETFROM:-0200
TZOFFSETTO:-0300
TZNAME:-03
DTSTART:20190217T020000
END:STANDARD
END:VTIMEZONE
BEGIN:VEVENT
DTSTART;VALUE=DATE:20191203
DTEND;VALUE=DATE:20191204
DTSTAMP:20260424T140943
CREATED:20191205T130806Z
LAST-MODIFIED:20191205T130806Z
UID:7186-1575331200-1575417599@casadelapaxcultura.com.ar
SUMMARY:Día Internacional de las Personas con Discapacidad
DESCRIPTION:El Día Internacional de las Personas con Discapadidad fue declarado en 1992 por la Asamblea General de las Naciones Unidas mediante la resolución 47/3. El objetivo es promover los derechos y el bienestar de las personas con discapacidades en todos los ámbitos de la sociedad y el desarrollo\, así como concienciar sobre su situación en todos los aspectos de la vida política\, social\, económica y cultural. \nTomando como base muchos años de trabajo de las Naciones Unidas en el área de las discapacidades\, la Convención sobre los Derechos de las Personas con Discapacidad (PDF)\, aprobada en 2006\, ha avanzado aún más los derechos y el bienestar de estas personas en la Agenda 2030 para el Desarrollo Sostenible y otros marcos de desarrollo internacionales\, como el Marco de Sendái para la Reducción del Riesgo de Desastres\, la Carta sobre la Inclusión de las Personas con Discapacidad en la Acción Humanitaria (EN)\, la Nueva Agenda Urbana (PDF)\, y la Agenda de Acción de Addis Abeba sobre la Financiación para el Desarrollo (EN). \nEste año el tema del Día Internacional de las Personas con Discapacidad (IDPD) es “Participación y el liderazgo de las personas con discapacidad: Agenda de Desarrollo 2030“. Se centra en el empoderamiento de las personas con discapacidad para un desarrollo inclusivo\, equitativo y sostenible\, como se pedía en la Agenda 2030 para el Desarrollo Sostenible\, que se compromete a “no dejar a nadie atrás” y considera la discapacidad como una cuestión transversal en la implementación de sus 17 Objetivos de Desarrollo Sostenible (ODS). \nEn los Objetivos se hace referencia a la discapacidad\, específicamente en las partes relacionadas con la educación\, el crecimiento económico y el empleo\, la desigualdad y la accesibilidad de los asentamientos humanos\, así como en la recopilación de datos y el seguimiento de los ODS. \n\n\n\n\n\nLa Estrategia de las Naciones Unidas para la inclusión de la discapacidad\nEl 11 de junio de 2019\, el Secretario General António Guterres lanzó la Estrategia de las Naciones Unidas para la inclusión de la discapacidad\, que está en concordancia con su compromiso de hacer que las Naciones Unidas sean una organización inclusiva para todos. \nLa Estrategia de las Naciones Unidas para la inclusión de la discapacidad constituye la base de un progreso sostenible y transformador hacia la inclusión de la discapacidad en todos los pilares de la labor de las Naciones Unidas. Con esta estrategia\, las organizaciones del sistema de la ONU reafirman que la realización plena y completa de los derechos humanos de todas las personas con discapacidad es un componente inalienable\, indisociable e indivisible de todos los derechos humanos y libertades fundamentales. \nActos en Nueva York\nEl Departamento de Asuntos Económicos y Sociales (EN) organiza un acto en la Sede de la ONU el día 3 de diciembre. Tras la inauguración de las celebraciones del Día\, hay un panel de discusión sobre nuevas iniciativas para la inclusión de la discapacidad\, así como el evento para promover el “Deporte para todos por la paz y el desarrollo”. Dispones de más información\, en inglés\, en esta nota informativa de DESA.
URL:https://casadelapaxcultura.com.ar/evento/dia-internacional-de-las-personas-con-discapacidad/
ATTACH;FMTTYPE=image/jpeg:https://casadelapaxcultura.com.ar/wp-content/uploads/2019/12/un0149794-lg.jpg
END:VEVENT
END:VCALENDAR