BEGIN:VCALENDAR
VERSION:2.0
PRODID:-//Casa de la Pax Cultura - Todos por la paz - ECPv5.14.1//NONSGML v1.0//EN
CALSCALE:GREGORIAN
METHOD:PUBLISH
X-WR-CALNAME:Casa de la Pax Cultura - Todos por la paz
X-ORIGINAL-URL:https://casadelapaxcultura.com.ar
X-WR-CALDESC:Eventos para Casa de la Pax Cultura - Todos por la paz
BEGIN:VTIMEZONE
TZID:America/Sao_Paulo
BEGIN:STANDARD
TZOFFSETFROM:-0200
TZOFFSETTO:-0300
TZNAME:-03
DTSTART:20190217T020000
END:STANDARD
END:VTIMEZONE
BEGIN:VEVENT
DTSTART;VALUE=DATE:20190809
DTEND;VALUE=DATE:20190810
DTSTAMP:20260419T100929
CREATED:20190810T170909Z
LAST-MODIFIED:20190810T170909Z
UID:6983-1565308800-1565395199@casadelapaxcultura.com.ar
SUMMARY:Día Internacional de los pueblos indígenas
DESCRIPTION:Los pueblos indígenas representan una gran diversidad: más de 5 000 grupos distintos en unos 90 países y hablan una abrumadora mayoría de las aproximadamente 7 000 lenguas del mundo. Están constituidos por 370 millones de personas aproximadamente\, es decir\, más del 5% de la población mundial y\, sin embargo\, se encuentran entre las poblaciones más desfavorecidas y vulnerables representando el 15 por ciento de los más pobres. \nLos pueblos indígenas han heredado y practican culturas y formas únicas de relacionarse con la gente y el medio ambiente. Retienen\, además\, rasgos sociales\, culturales\, económicos y políticos que son distintos de los predominantes en las sociedades en las que viven. Pese a sus diferencias culturales\, los pueblos indígenas de todo el mundo comparten problemas comunes a la hora de proteger sus derechos como pueblos diferentes. \nLas poblaciones autóctonas han buscado durante años el reconocimiento de sus identidades\, su forma de vida y el derecho sobre sus territorios tradicionales y recursos naturales. Pese a ello\, a lo largo de la historia\, sus derechos han sido siempre violados. En la actualidad\, se encuentran sin duda entre las poblaciones más vulnerables y perjudicadas del mundo. La comunidad internacional reconoce ahora que se necesitan medidas especiales para proteger sus derechos y mantener sus culturas y formas de vida. \nLenguas indígenas\, temática de este 2019 \nCon el fin de sensibilizar sobre las necesidades de estas poblaciones\, cada 9 de agosto se conmemora el Día Internacional de los Pueblos Indígenas\, en conmemoración de la primera reunión del Grupo de Trabajo de las Naciones Unidas sobre Poblaciones Indígenas celebrada en Ginebra en 1982. \nLa temática de 2019 está dedicada a las “Lenguas indígenas”\, coincidiendo con la proclamación de éste como el Año Internacional de las Lenguas Indígenas. \nLa gran mayoría de las lenguas en peligro son habladas por los pueblos indígenas. De hecho\, se estima que cada dos semanas muere una lengua indígena\, poniendo en riesgo sus respectivas culturas y los sistemas de conocimiento que aportan. Es por ello que\, en este día internacional\, se pretende sensibilizar sobre la preocupante pérdida de estas lenguas y la gran necesidad de preservarlas\, revitalizarlas y promoverlas a nivel nacional e internacional. \nLa sede de las Naciones Unidas acogerá una celebración que se llevará a cabo el 9 de agosto de 10:00 a.m. a 5:00 p.m. en su sede de Nueva York y será retransmitida en vivo. \nManténgase informado con los hastags: #SomosIndígenas #PueblosIndígenas #DíaPueblosIndígenas #SoyIndígena#LenguasIndígenas \nDía Internacional de los Pueblos Indígenas [A/RES/49/214]
URL:https://casadelapaxcultura.com.ar/evento/dia-internacional-de-los-pueblos-indigenas/
ATTACH;FMTTYPE=image/jpeg:https://casadelapaxcultura.com.ar/wp-content/uploads/2019/08/pueblosind.jpg
END:VEVENT
END:VCALENDAR