BEGIN:VCALENDAR
VERSION:2.0
PRODID:-//Casa de la Pax Cultura - Todos por la paz - ECPv5.14.1//NONSGML v1.0//EN
CALSCALE:GREGORIAN
METHOD:PUBLISH
X-WR-CALNAME:Casa de la Pax Cultura - Todos por la paz
X-ORIGINAL-URL:https://casadelapaxcultura.com.ar
X-WR-CALDESC:Eventos para Casa de la Pax Cultura - Todos por la paz
BEGIN:VTIMEZONE
TZID:America/Sao_Paulo
BEGIN:STANDARD
TZOFFSETFROM:-0200
TZOFFSETTO:-0300
TZNAME:-03
DTSTART:20190217T020000
END:STANDARD
END:VTIMEZONE
BEGIN:VEVENT
DTSTART;VALUE=DATE:20191205
DTEND;VALUE=DATE:20191206
DTSTAMP:20260424T123645
CREATED:20191205T131232Z
LAST-MODIFIED:20191205T131232Z
UID:7189-1575504000-1575590399@casadelapaxcultura.com.ar
SUMMARY:Día Internacional de los Voluntarios
DESCRIPTION:Voluntariado\, el altruismo que acerca la paz\nCada 5 de diciembre se celebra el Día Internacional de los Voluntarios. Este día supone una oportunidad única para agradecer todos los esfuerzos realizados por los voluntarios y sus organizaciones\, así como promover sus valores y dar a conocer los logros que consiguen en sus comunidades\, ya sea a través de organizaciones no gubernamentales (ONGs)\, agencias de las Naciones Unidas\, organismos gubernamentales o el sector privado. \nEspecial mención merece el Programa de Voluntarios de las Naciones Unidas (VNU)\, que no sólo moviliza a miles de voluntarios cada año\, sino que contribuye a la paz y al desarrollo a través de la defensa y reconocimiento de los voluntarios mediante la creación de alianzas con asociaciones para incluir a estos desinteresados colaboradores en los programas de desarrollo.
URL:https://casadelapaxcultura.com.ar/evento/dia-internacional-de-los-voluntarios/
ATTACH;FMTTYPE=image/jpeg:https://casadelapaxcultura.com.ar/wp-content/uploads/2019/12/volunteerhome.jpg
END:VEVENT
END:VCALENDAR