BEGIN:VCALENDAR
VERSION:2.0
PRODID:-//Casa de la Pax Cultura - Todos por la paz - ECPv5.14.1//NONSGML v1.0//EN
CALSCALE:GREGORIAN
METHOD:PUBLISH
X-WR-CALNAME:Casa de la Pax Cultura - Todos por la paz
X-ORIGINAL-URL:https://casadelapaxcultura.com.ar
X-WR-CALDESC:Eventos para Casa de la Pax Cultura - Todos por la paz
BEGIN:VTIMEZONE
TZID:America/Sao_Paulo
BEGIN:STANDARD
TZOFFSETFROM:-0300
TZOFFSETTO:-0300
TZNAME:-03
DTSTART:20210101T000000
END:STANDARD
END:VTIMEZONE
BEGIN:VEVENT
DTSTART;VALUE=DATE:20210406
DTEND;VALUE=DATE:20210407
DTSTAMP:20260420T022109
CREATED:20210407T134111Z
LAST-MODIFIED:20210407T134111Z
UID:7521-1617667200-1617753599@casadelapaxcultura.com.ar
SUMMARY:Día Internacional del Deporte para el Desarrollo y la Paz.
DESCRIPTION:Deporte y actividad física para reconstruir un mundo mejor\nEl deporte tiene el poder de cambiar el mundo e históricamente ha desempeñado un papel importante en todas las sociedades\, ya sea en forma de competiciones deportivas\, de actividad física sin más o incluso de juegos. Es un derecho fundamental y una herramienta poderosa para fortalecer los lazos sociales y promover el desarrollo sostenible\, la paz\, el bienestar\, la solidaridad y el respeto. \nA través de nuestras habilidades individuales únicas y nuestro poder colectivo\, podemos unirnos y compartir formas creativas para mejorar nuestra salud y bienestar a través del deporte y la actividad física. Para celebrar el Día Internacional del Deporte para el Desarrollo y la Paz\, os pedimos que os mantengáis activos\, sanos y solidarios en estos tiempos de distanciamiento físico y social. El espíritu de equipo nos ayudará a superar juntos la incertidumbre y las dificultades actuales. \nEl Día Internacional del Deporte para el Desarrollo y la Paz\, que se celebra el 6 de abril\, es una oportunidad para reconocer el papel que el deporte y la actividad física desempeñan en las comunidades y las vidas de las personas en todo el mundo. \nLa pandemia de COVID-19 ha dificultado el poder unirnos con nuestros amigos\, equipos y aficionados para competir\, jugar y animarnos los unos a los otros. Ha hecho mella en individuos\, sociedades\, organizaciones y economias. Las medidas que se llevaron a cabo para contener la pandemia han afectado cada aspecto de nuestras vidas\, incluido el deporte. Pero el deporte en sí mismo puede ayudarnos a sobreponernos y recuperarnos de la pandemia. Puede contribuir en el esfuerzo por reconstruir un mundo mejor\, más resistente y equitativo. \nEl deporte ayuda a promover la justicia\, el trabajo en equipo\, la igualdad\, la inclusión y la perseverancia. También puede ayudarnos a superar tiempos de crisis\, como la COVID-19\, reduciendo la ansiedad y mejorando nuestra salud física y mental. Por otro lado\, los profesionales del deporte también proporcionan empleos e ingresos a muchas personas en todo el mundo\, y es un sector integral para el éxito económico de muchas comunidades y regiones. \nEl deporte traspasa fronteras\, desafía estereotipos e inspira esperanza entre naciones\, pero solo podremos volver a disfrutarlo como antes\, si nos recuperamos mejor y acabamos con la pandemia asegurándonos que todo el mundo está protegido contra la COVID-19. \nAhora más que nunca debemos actuar juntos en equipo para derrotar a la pandemia\, igualar las condiciones de juego para conseguir una distribución equitativa y justa de las vacunas y apoyarnos los unos a los otros para recuperarnos con más fuerza. \nConsejos generales para mantenerse activo y última información sobre la COVID- 19.
URL:https://casadelapaxcultura.com.ar/evento/dia-internacional-del-deporte-para-el-desarrollo-y-la-paz/
ATTACH;FMTTYPE=image/png:https://casadelapaxcultura.com.ar/wp-content/uploads/2021/04/sport_day_2021_index-1.png
END:VEVENT
END:VCALENDAR