BEGIN:VCALENDAR
VERSION:2.0
PRODID:-//Casa de la Pax Cultura - Todos por la paz - ECPv5.14.1//NONSGML v1.0//EN
CALSCALE:GREGORIAN
METHOD:PUBLISH
X-WR-CALNAME:Casa de la Pax Cultura - Todos por la paz
X-ORIGINAL-URL:https://casadelapaxcultura.com.ar
X-WR-CALDESC:Eventos para Casa de la Pax Cultura - Todos por la paz
BEGIN:VTIMEZONE
TZID:America/Sao_Paulo
BEGIN:STANDARD
TZOFFSETFROM:-0300
TZOFFSETTO:-0300
TZNAME:-03
DTSTART:20200101T000000
END:STANDARD
END:VTIMEZONE
BEGIN:VEVENT
DTSTART;VALUE=DATE:20201209
DTEND;VALUE=DATE:20201210
DTSTAMP:20260421T094523
CREATED:20201109T170819Z
LAST-MODIFIED:20201109T170819Z
UID:7346-1607472000-1607558399@casadelapaxcultura.com.ar
SUMMARY:Día Internacional para la Conmemoración y Dignificación de las Víctimas del Crimen de Genocidio y para la Prevención de ese Crimen
DESCRIPTION:Día Internacional para la Conmemoración y Dignificación de las Víctimas del Crimen de Genocidio y para la Prevención de ese Crimen [A/RES/69/323]
URL:https://casadelapaxcultura.com.ar/evento/dia-internacional-para-la-conmemoracion-y-dignificacion-de-las-victimas-del-crimen-de-genocidio-y-para-la-prevencion-de-ese-crimen/
ATTACH;FMTTYPE=image/jpeg:https://casadelapaxcultura.com.ar/wp-content/uploads/2020/11/alasdair-elmes-jUfY-2scC_s-unsplash.jpg
END:VEVENT
END:VCALENDAR