BEGIN:VCALENDAR
VERSION:2.0
PRODID:-//Casa de la Pax Cultura - Todos por la paz - ECPv5.14.1//NONSGML v1.0//EN
CALSCALE:GREGORIAN
METHOD:PUBLISH
X-WR-CALNAME:Casa de la Pax Cultura - Todos por la paz
X-ORIGINAL-URL:https://casadelapaxcultura.com.ar
X-WR-CALDESC:Eventos para Casa de la Pax Cultura - Todos por la paz
BEGIN:VTIMEZONE
TZID:America/Sao_Paulo
BEGIN:STANDARD
TZOFFSETFROM:-0300
TZOFFSETTO:-0300
TZNAME:-03
DTSTART:20200101T000000
END:STANDARD
END:VTIMEZONE
BEGIN:VEVENT
DTSTART;VALUE=DATE:20201110
DTEND;VALUE=DATE:20201111
DTSTAMP:20260421T164222
CREATED:20201109T144927Z
LAST-MODIFIED:20201109T144927Z
UID:7286-1604966400-1605052799@casadelapaxcultura.com.ar
SUMMARY:Día Mundial de la Ciencia para la Paz y el Desarrollo
DESCRIPTION:Día Mundial de la Ciencia para la Paz y el Desarrollo [Resolución 31 C / 20 de la UNESCO]
URL:https://casadelapaxcultura.com.ar/evento/dia-mundial-de-la-ciencia-para-la-paz-y-el-desarrollo/
ATTACH;FMTTYPE=image/jpeg:https://casadelapaxcultura.com.ar/wp-content/uploads/2020/11/cdc-LiNIONbajm4-unsplash.jpg
END:VEVENT
END:VCALENDAR