BEGIN:VCALENDAR
VERSION:2.0
PRODID:-//Casa de la Pax Cultura - Todos por la paz - ECPv5.14.1//NONSGML v1.0//EN
CALSCALE:GREGORIAN
METHOD:PUBLISH
X-WR-CALNAME:Casa de la Pax Cultura - Todos por la paz
X-ORIGINAL-URL:https://casadelapaxcultura.com.ar
X-WR-CALDESC:Eventos para Casa de la Pax Cultura - Todos por la paz
BEGIN:VTIMEZONE
TZID:America/Sao_Paulo
BEGIN:STANDARD
TZOFFSETFROM:-0300
TZOFFSETTO:-0300
TZNAME:-03
DTSTART:20210101T000000
END:STANDARD
END:VTIMEZONE
BEGIN:VEVENT
DTSTART;VALUE=DATE:20210414
DTEND;VALUE=DATE:20210415
DTSTAMP:20260422T054807
CREATED:20210407T135229Z
LAST-MODIFIED:20210407T135229Z
UID:7532-1618358400-1618444799@casadelapaxcultura.com.ar
SUMMARY:Día Mundial de la enfermedad de Chagas.
DESCRIPTION:World Chagas Disease Day: raising awareness of neglected tropical diseases\n24 May 2019 | Geneva −− The 72nd World Health Assembly today approved the designation of a World Chagas Disease Day which aims\, among others\, to raise public awareness of this neglected tropical disease (NTD) that affects mainly poor people. Read more…Día Mundial de la enfermedad de Chagas
URL:https://casadelapaxcultura.com.ar/evento/dia-mundial-de-la-enfermedad-de-chagas/
ATTACH;FMTTYPE=image/png:https://casadelapaxcultura.com.ar/wp-content/uploads/2021/04/Chagas-world-day-WHA72-2019.png
END:VEVENT
END:VCALENDAR