BEGIN:VCALENDAR
VERSION:2.0
PRODID:-//Casa de la Pax Cultura - Todos por la paz - ECPv5.14.1//NONSGML v1.0//EN
CALSCALE:GREGORIAN
METHOD:PUBLISH
X-WR-CALNAME:Casa de la Pax Cultura - Todos por la paz
X-ORIGINAL-URL:https://casadelapaxcultura.com.ar
X-WR-CALDESC:Eventos para Casa de la Pax Cultura - Todos por la paz
BEGIN:VTIMEZONE
TZID:America/Sao_Paulo
BEGIN:STANDARD
TZOFFSETFROM:-0300
TZOFFSETTO:-0300
TZNAME:-03
DTSTART:20200101T000000
END:STANDARD
END:VTIMEZONE
BEGIN:VEVENT
DTSTART;VALUE=DATE:20201119
DTEND;VALUE=DATE:20201120
DTSTAMP:20260421T080908
CREATED:20201109T150949Z
LAST-MODIFIED:20201109T150949Z
UID:7302-1605744000-1605830399@casadelapaxcultura.com.ar
SUMMARY:Día Mundial de la Filosofía
DESCRIPTION:Día Mundial de la Filosofía [Resolución 33 C / 37 de la UNESCO]
URL:https://casadelapaxcultura.com.ar/evento/dia-mundial-de-la-filosofia/
ATTACH;FMTTYPE=image/jpeg:https://casadelapaxcultura.com.ar/wp-content/uploads/2020/11/k-mitch-hodge-wZfndoCA1rA-unsplash.jpg
END:VEVENT
END:VCALENDAR