BEGIN:VCALENDAR
VERSION:2.0
PRODID:-//Casa de la Pax Cultura - Todos por la paz - ECPv5.14.1//NONSGML v1.0//EN
CALSCALE:GREGORIAN
METHOD:PUBLISH
X-WR-CALNAME:Casa de la Pax Cultura - Todos por la paz
X-ORIGINAL-URL:https://casadelapaxcultura.com.ar
X-WR-CALDESC:Eventos para Casa de la Pax Cultura - Todos por la paz
BEGIN:VTIMEZONE
TZID:America/Sao_Paulo
BEGIN:STANDARD
TZOFFSETFROM:-0200
TZOFFSETTO:-0300
TZNAME:-03
DTSTART:20190217T020000
END:STANDARD
END:VTIMEZONE
BEGIN:VEVENT
DTSTART;VALUE=DATE:20190711
DTEND;VALUE=DATE:20190712
DTSTAMP:20260419T190911
CREATED:20190708T162807Z
LAST-MODIFIED:20190708T163641Z
UID:6955-1562803200-1562889599@casadelapaxcultura.com.ar
SUMMARY:Día Mundial de la Población
DESCRIPTION:El Consejo de Administración del Programa de las Naciones Unidas para el Desarrollo estableció en 1989 el Día Mundial de la Población\, con el que se pretende centrar la atención en la urgencia e importancia de las cuestiones relativas a la población. El interés por reconocer este día nació de la celebración del “Día de los cinco mil millones” el 11 de julio de 1987. \nEl Día Mundial de la Población de este año ahonda en los asuntos todavía pendientes de la Conferencia Internacional de 1994 sobre la Población y el Desarrollo. Han pasado veinticinco años desde esa conferencia histórica\, donde 179 gobiernos reconocieron que la salud reproductiva y la igualdad de género son esenciales para lograr un desarrollo sostenible. \nEn noviembre\, el Fondo de Población de la ONU (UNFPA)\, junto con los gobiernos de Kenia y Dinamarca\, convocará una conferencia de alto nivel en Nairobi para acelerar los esfuerzos en alcanzar estos objetivos pendientes. En el Día Mundial de la Población\, se pretende realizar un llamamiento a los líderes mundiales\, los responsables políticos\, las instituciones y todos los miembros de la sociedad en sí\, para que ayuden a que la salud y los derechos reproductivos sean una realidad para todos. \nDía Mundial de la Población [PNUD (decisión 89/46 15)\, A/RES/45/216]
URL:https://casadelapaxcultura.com.ar/evento/dia-mundial-de-la-poblacion/
ATTACH;FMTTYPE=image/jpeg:https://casadelapaxcultura.com.ar/wp-content/uploads/2019/07/11.jpg
END:VEVENT
END:VCALENDAR