BEGIN:VCALENDAR
VERSION:2.0
PRODID:-//Casa de la Pax Cultura - Todos por la paz - ECPv5.14.1//NONSGML v1.0//EN
CALSCALE:GREGORIAN
METHOD:PUBLISH
X-WR-CALNAME:Casa de la Pax Cultura - Todos por la paz
X-ORIGINAL-URL:https://casadelapaxcultura.com.ar
X-WR-CALDESC:Eventos para Casa de la Pax Cultura - Todos por la paz
BEGIN:VTIMEZONE
TZID:America/Sao_Paulo
BEGIN:STANDARD
TZOFFSETFROM:-0200
TZOFFSETTO:-0300
TZNAME:-03
DTSTART:20190217T020000
END:STANDARD
END:VTIMEZONE
BEGIN:VEVENT
DTSTART;VALUE=DATE:20190715
DTEND;VALUE=DATE:20190716
DTSTAMP:20260419T174701
CREATED:20190710T163711Z
LAST-MODIFIED:20190710T163852Z
UID:6965-1563148800-1563235199@casadelapaxcultura.com.ar
SUMMARY:Día Mundial de las Habilidades Juveniles
DESCRIPTION:En 2013\, las Naciones Unidas estiman que 74\,5 millones de jóvenes en todo el mundo estaban desempleados. Uno de cada cinco jóvenes (125 millones) que trabajan vive en la pobreza extrema (menos de US $ 1 por día).\nObservado por primera vez en 2015\, el Día Mundial de las Capacidades Juveniles enfoca la atención en la importancia de que las personas jóvenes aprendan habilidades como una forma de reducir el desempleo y el subempleo. \nEn el mundo actual\, el creciente desempleo juvenil es uno de los problemas más acuciantes con el que se enfrentan las economías y sociedades\, tanto de países desarrollados como en desarrollo. Será preciso crear al menos 475 millones de nuevos puestos de trabajo en la próxima década para absorber a los 73 millones de jóvenes actualmente desempleados y a los 40 millones que ingresan anualmente en el mercado de trabajo6. Al mismo tiempo\, las encuestas de la Organización de Cooperación y Desarrollo Económicos (OCDE) indican que tanto los empleadores como los jóvenes consideran que muchos graduados están insuficientemente preparados para el mundo laboral. Conseguir un trabajo decente representa un desafío considerable. En muchos países\, el sector informal y el de la economía rural tradicional siguen siendo una fuente importante de empleo. En la actualidad hay en todo el mundo 1440 millones de trabajadores en situación laboral vulnerable. Más de la mitad de estos trabajadores residen en el África Subsahariana y Asia Meridional\, regiones donde tres de cada cuatro trabajadores están expuestos a condiciones de empleo precarias. \nDía Mundial de las Habilidades de la Juventud [A/RES/69/145] \nwww.un.org/en/events/ \nwww.worldskills.org \nLa comunidad internacional ha establecido una ambiciosa Agenda 2030 para el Desarrollo Sostenible. Esta agenda requiere un enfoque integrado del desarrollo\, que reconozca que la erradicación de la pobreza en todas sus formas y dimensiones\, la lucha contra la desigualdad dentro de los países y entre ellos\, la preservación del planeta\, la promoción del crecimiento económico inclusivo y sostenible\, el logro del empleo pleno y productivo y de un trabajo decente para todas las mujeres y los hombres\, y la consecución de la plena igualdad entre hombres y mujeres y el fomento de la inclusión social son interdependientes.
URL:https://casadelapaxcultura.com.ar/evento/dia-mundial-de-las-habilidades-juveniles/
ATTACH;FMTTYPE=image/jpeg:https://casadelapaxcultura.com.ar/wp-content/uploads/2019/07/worldskills.jpg
END:VEVENT
END:VCALENDAR