BEGIN:VCALENDAR
VERSION:2.0
PRODID:-//Casa de la Pax Cultura - Todos por la paz - ECPv5.14.1//NONSGML v1.0//EN
CALSCALE:GREGORIAN
METHOD:PUBLISH
X-WR-CALNAME:Casa de la Pax Cultura - Todos por la paz
X-ORIGINAL-URL:https://casadelapaxcultura.com.ar
X-WR-CALDESC:Eventos para Casa de la Pax Cultura - Todos por la paz
BEGIN:VTIMEZONE
TZID:America/Sao_Paulo
BEGIN:STANDARD
TZOFFSETFROM:-0300
TZOFFSETTO:-0300
TZNAME:-03
DTSTART:20200101T000000
END:STANDARD
END:VTIMEZONE
BEGIN:VEVENT
DTSTART;VALUE=DATE:20201205
DTEND;VALUE=DATE:20201206
DTSTAMP:20260421T064343
CREATED:20201109T170327Z
LAST-MODIFIED:20201109T170327Z
UID:7340-1607126400-1607212799@casadelapaxcultura.com.ar
SUMMARY:Día Mundial del Suelo
DESCRIPTION:Día Mundial del Suelo [A/RES/68/232]
URL:https://casadelapaxcultura.com.ar/evento/dia-mundial-del-suelo-2/
ATTACH;FMTTYPE=image/jpeg:https://casadelapaxcultura.com.ar/wp-content/uploads/2020/11/anshu-a-hoUvR7hmT_w-unsplash.jpg
END:VEVENT
END:VCALENDAR