BEGIN:VCALENDAR
VERSION:2.0
PRODID:-//Casa de la Pax Cultura - Todos por la paz - ECPv5.14.1//NONSGML v1.0//EN
CALSCALE:GREGORIAN
METHOD:PUBLISH
X-WR-CALNAME:Casa de la Pax Cultura - Todos por la paz
X-ORIGINAL-URL:https://casadelapaxcultura.com.ar
X-WR-CALDESC:Eventos para Casa de la Pax Cultura - Todos por la paz
BEGIN:VTIMEZONE
TZID:America/Sao_Paulo
BEGIN:STANDARD
TZOFFSETFROM:-0300
TZOFFSETTO:-0300
TZNAME:-03
DTSTART:20200101T000000
END:STANDARD
END:VTIMEZONE
BEGIN:VEVENT
DTSTART;VALUE=DATE:20201115
DTEND;VALUE=DATE:20201116
DTSTAMP:20260421T135052
CREATED:20201109T145825Z
LAST-MODIFIED:20201109T145825Z
UID:7293-1605398400-1605484799@casadelapaxcultura.com.ar
SUMMARY:Día mundial en recuerdo de las víctimas de los accidentes de tráfico
DESCRIPTION:Día mundial en recuerdo de las víctimas de los accidentes de tráfico [A/RES/60/5)]
URL:https://casadelapaxcultura.com.ar/evento/dia-mundial-en-recuerdo-de-las-victimas-de-los-accidentes-de-trafico/
ATTACH;FMTTYPE=image/jpeg:https://casadelapaxcultura.com.ar/wp-content/uploads/2020/11/riley-edwards-_mi2Mk2v5WA-unsplash.jpg
END:VEVENT
END:VCALENDAR